BEGIN:VCALENDAR
VERSION:2.0
PRODID:-//jEvents 2.0 for Joomla//EN
CALSCALE:GREGORIAN
METHOD:PUBLISH
BEGIN:VTIMEZONE
TZID:America/Los_Angeles
BEGIN:STANDARD
DTSTART:20181104T010000
RDATE:20190310T030000
TZOFFSETFROM:-0700
TZOFFSETTO:-0800
TZNAME:America/Los_Angeles PST
END:STANDARD
BEGIN:STANDARD
DTSTART:20191103T010000
RDATE:20200308T030000
TZOFFSETFROM:-0700
TZOFFSETTO:-0800
TZNAME:America/Los_Angeles PST
END:STANDARD
BEGIN:STANDARD
DTSTART:20201101T010000
RDATE:20210314T030000
TZOFFSETFROM:-0700
TZOFFSETTO:-0800
TZNAME:America/Los_Angeles PST
END:STANDARD
BEGIN:STANDARD
DTSTART:20211107T010000
RDATE:20220313T030000
TZOFFSETFROM:-0700
TZOFFSETTO:-0800
TZNAME:America/Los_Angeles PST
END:STANDARD
BEGIN:STANDARD
DTSTART:20221106T010000
RDATE:20230312T030000
TZOFFSETFROM:-0700
TZOFFSETTO:-0800
TZNAME:America/Los_Angeles PST
END:STANDARD
BEGIN:STANDARD
DTSTART:20231105T010000
RDATE:20240310T030000
TZOFFSETFROM:-0700
TZOFFSETTO:-0800
TZNAME:America/Los_Angeles PST
END:STANDARD
BEGIN:STANDARD
DTSTART:20241103T010000
RDATE:20250309T030000
TZOFFSETFROM:-0700
TZOFFSETTO:-0800
TZNAME:America/Los_Angeles PST
END:STANDARD
BEGIN:STANDARD
DTSTART:20251102T010000
RDATE:20260308T030000
TZOFFSETFROM:-0700
TZOFFSETTO:-0800
TZNAME:America/Los_Angeles PST
END:STANDARD
BEGIN:STANDARD
DTSTART:20261101T010000
RDATE:20270314T030000
TZOFFSETFROM:-0700
TZOFFSETTO:-0800
TZNAME:America/Los_Angeles PST
END:STANDARD
BEGIN:STANDARD
DTSTART:20271107T010000
RDATE:20280312T030000
TZOFFSETFROM:-0700
TZOFFSETTO:-0800
TZNAME:America/Los_Angeles PST
END:STANDARD
BEGIN:STANDARD
DTSTART:20281105T010000
RDATE:20290311T030000
TZOFFSETFROM:-0700
TZOFFSETTO:-0800
TZNAME:America/Los_Angeles PST
END:STANDARD
BEGIN:STANDARD
DTSTART:20291104T010000
RDATE:20300310T030000
TZOFFSETFROM:-0700
TZOFFSETTO:-0800
TZNAME:America/Los_Angeles PST
END:STANDARD
BEGIN:STANDARD
DTSTART:20301103T010000
RDATE:20310309T030000
TZOFFSETFROM:-0700
TZOFFSETTO:-0800
TZNAME:America/Los_Angeles PST
END:STANDARD
BEGIN:STANDARD
DTSTART:20311102T010000
RDATE:20320314T030000
TZOFFSETFROM:-0700
TZOFFSETTO:-0800
TZNAME:America/Los_Angeles PST
END:STANDARD
BEGIN:DAYLIGHT
DTSTART:20180929T170000
RDATE:20181104T010000
TZOFFSETFROM:-0800
TZOFFSETTO:-0700
TZNAME:America/Los_Angeles PDT
END:DAYLIGHT
BEGIN:DAYLIGHT
DTSTART:20190310T030000
RDATE:20191103T010000
TZOFFSETFROM:-0800
TZOFFSETTO:-0700
TZNAME:America/Los_Angeles PDT
END:DAYLIGHT
BEGIN:DAYLIGHT
DTSTART:20200308T030000
RDATE:20201101T010000
TZOFFSETFROM:-0800
TZOFFSETTO:-0700
TZNAME:America/Los_Angeles PDT
END:DAYLIGHT
BEGIN:DAYLIGHT
DTSTART:20210314T030000
RDATE:20211107T010000
TZOFFSETFROM:-0800
TZOFFSETTO:-0700
TZNAME:America/Los_Angeles PDT
END:DAYLIGHT
BEGIN:DAYLIGHT
DTSTART:20220313T030000
RDATE:20221106T010000
TZOFFSETFROM:-0800
TZOFFSETTO:-0700
TZNAME:America/Los_Angeles PDT
END:DAYLIGHT
BEGIN:DAYLIGHT
DTSTART:20230312T030000
RDATE:20231105T010000
TZOFFSETFROM:-0800
TZOFFSETTO:-0700
TZNAME:America/Los_Angeles PDT
END:DAYLIGHT
BEGIN:DAYLIGHT
DTSTART:20240310T030000
RDATE:20241103T010000
TZOFFSETFROM:-0800
TZOFFSETTO:-0700
TZNAME:America/Los_Angeles PDT
END:DAYLIGHT
BEGIN:DAYLIGHT
DTSTART:20250309T030000
RDATE:20251102T010000
TZOFFSETFROM:-0800
TZOFFSETTO:-0700
TZNAME:America/Los_Angeles PDT
END:DAYLIGHT
BEGIN:DAYLIGHT
DTSTART:20260308T030000
RDATE:20261101T010000
TZOFFSETFROM:-0800
TZOFFSETTO:-0700
TZNAME:America/Los_Angeles PDT
END:DAYLIGHT
BEGIN:DAYLIGHT
DTSTART:20270314T030000
RDATE:20271107T010000
TZOFFSETFROM:-0800
TZOFFSETTO:-0700
TZNAME:America/Los_Angeles PDT
END:DAYLIGHT
BEGIN:DAYLIGHT
DTSTART:20280312T030000
RDATE:20281105T010000
TZOFFSETFROM:-0800
TZOFFSETTO:-0700
TZNAME:America/Los_Angeles PDT
END:DAYLIGHT
BEGIN:DAYLIGHT
DTSTART:20290311T030000
RDATE:20291104T010000
TZOFFSETFROM:-0800
TZOFFSETTO:-0700
TZNAME:America/Los_Angeles PDT
END:DAYLIGHT
BEGIN:DAYLIGHT
DTSTART:20300310T030000
RDATE:20301103T010000
TZOFFSETFROM:-0800
TZOFFSETTO:-0700
TZNAME:America/Los_Angeles PDT
END:DAYLIGHT
BEGIN:DAYLIGHT
DTSTART:20310309T030000
RDATE:20311102T010000
TZOFFSETFROM:-0800
TZOFFSETTO:-0700
TZNAME:America/Los_Angeles PDT
END:DAYLIGHT
END:VTIMEZONE
BEGIN:VEVENT
UID:cbd6babd5b4994f74c62bd9b9b7df652
CATEGORIES:Diocesan Events
CREATED:20190925T133851
SUMMARY:Love One Another Prayer Service- Brandie Frazier
DESCRIPTION:Riverside Vicariate\n Brandie Frazier, age 42.  Killed on September 1, 201
 9. \nPrayer service for:   Brandie Frazier        Date/Time:               
  Monday, September 30, 2019 @ 5:00pm\n Prayer Location:        Meet on the 
 corner of El Sobrante Rd and Palm Rd                                       
                                                                         (Pa
 lm Rd is marked but easy to miss, unpaved road)\n                          
        17000 block of Palm Rd, near Lake Matthews\nPresider:               
      Jose Gomez, St. James, Perriss\n \n \n
X-ALT-DESC;FMTTYPE=text/html:<p class="MsoNormal" style="text-align: center;" align="center"><b><u><span
  lang="EN-US" style="font-size: 16.0pt; mso-ansi-language: EN-US;">Riversid
 e Vicariate</span></u></b></p><p class="MsoNormal" style="line-height: 125%
 ;"><span lang="EN-US" style="font-size: 14.0pt; line-height: 125%; font-fam
 ily: 'Wingdings 2'; mso-ansi-language: EN-US;"></span><span lang="EN-US" s
 tyle="font-size: 14.0pt; line-height: 125%; mso-ansi-language: EN-US;"> Bra
 ndie Frazier, age 42.  Killed on September 1, 2019. </span></p><h1 style="l
 ine-height: 125%;"><span lang="EN-US" style="font-size: 13.5pt; line-height
 : 125%; font-family: 'Segoe UI',sans-serif; mso-fareast-font-family: 'Times
  New Roman'; mso-ligatures: none; mso-ansi-language: EN-US;"><strong>Prayer
  service for:   </strong><b>Brandie Frazier        </b></span></h1><p class
 ="MsoNormal" style="line-height: 125%;"><span lang="EN-US" style="font-size
 : 13.5pt; line-height: 125%; font-family: 'Segoe UI',sans-serif; mso-ansi-l
 anguage: EN-US;">Date/Time:                <span style="background: yellow;
  mso-highlight: yellow;">Monday, September 30, 2019 @ 5:00pm</span><br /> P
 rayer Location:        Meet on the corner of El Sobrante Rd and Palm Rd    
                                                                            
                                 (Palm Rd is marked but easy to miss, unpave
 d road)</span></p><p class="MsoNormal" style="line-height: 125%;"><span lan
 g="EN-US" style="font-size: 13.5pt; line-height: 125%; font-family: 'Segoe 
 UI',sans-serif; mso-ansi-language: EN-US;">                                
  17000 block of Palm Rd, near Lake Matthews</span></p><p class="MsoNormal" 
 style="line-height: 125%;"><span style="font-family: 'Segoe UI', sans-serif
 ; font-size: 13.5pt;">Presider:                    Jose Gomez, St. James, P
 erris</span><span style="font-size: 18.6667px;">s</span></p><p> </p><p> </p
 >
DTSTAMP:20260421T100638
DTSTART;TZID=America/Los_Angeles:20190930T170000
DTEND;TZID=America/Los_Angeles:20190930T173000
SEQUENCE:0
TRANSP:OPAQUE
END:VEVENT
END:VCALENDAR