BEGIN:VCALENDAR
VERSION:2.0
PRODID:-//jEvents 2.0 for Joomla//EN
CALSCALE:GREGORIAN
METHOD:PUBLISH
BEGIN:VTIMEZONE
TZID:America/Los_Angeles
BEGIN:STANDARD
DTSTART:20181104T010000
RDATE:20190310T030000
TZOFFSETFROM:-0700
TZOFFSETTO:-0800
TZNAME:America/Los_Angeles PST
END:STANDARD
BEGIN:STANDARD
DTSTART:20191103T010000
RDATE:20200308T030000
TZOFFSETFROM:-0700
TZOFFSETTO:-0800
TZNAME:America/Los_Angeles PST
END:STANDARD
BEGIN:STANDARD
DTSTART:20201101T010000
RDATE:20210314T030000
TZOFFSETFROM:-0700
TZOFFSETTO:-0800
TZNAME:America/Los_Angeles PST
END:STANDARD
BEGIN:STANDARD
DTSTART:20211107T010000
RDATE:20220313T030000
TZOFFSETFROM:-0700
TZOFFSETTO:-0800
TZNAME:America/Los_Angeles PST
END:STANDARD
BEGIN:STANDARD
DTSTART:20221106T010000
RDATE:20230312T030000
TZOFFSETFROM:-0700
TZOFFSETTO:-0800
TZNAME:America/Los_Angeles PST
END:STANDARD
BEGIN:STANDARD
DTSTART:20231105T010000
RDATE:20240310T030000
TZOFFSETFROM:-0700
TZOFFSETTO:-0800
TZNAME:America/Los_Angeles PST
END:STANDARD
BEGIN:STANDARD
DTSTART:20241103T010000
RDATE:20250309T030000
TZOFFSETFROM:-0700
TZOFFSETTO:-0800
TZNAME:America/Los_Angeles PST
END:STANDARD
BEGIN:STANDARD
DTSTART:20251102T010000
RDATE:20260308T030000
TZOFFSETFROM:-0700
TZOFFSETTO:-0800
TZNAME:America/Los_Angeles PST
END:STANDARD
BEGIN:STANDARD
DTSTART:20261101T010000
RDATE:20270314T030000
TZOFFSETFROM:-0700
TZOFFSETTO:-0800
TZNAME:America/Los_Angeles PST
END:STANDARD
BEGIN:STANDARD
DTSTART:20271107T010000
RDATE:20280312T030000
TZOFFSETFROM:-0700
TZOFFSETTO:-0800
TZNAME:America/Los_Angeles PST
END:STANDARD
BEGIN:STANDARD
DTSTART:20281105T010000
RDATE:20290311T030000
TZOFFSETFROM:-0700
TZOFFSETTO:-0800
TZNAME:America/Los_Angeles PST
END:STANDARD
BEGIN:STANDARD
DTSTART:20291104T010000
RDATE:20300310T030000
TZOFFSETFROM:-0700
TZOFFSETTO:-0800
TZNAME:America/Los_Angeles PST
END:STANDARD
BEGIN:STANDARD
DTSTART:20301103T010000
RDATE:20310309T030000
TZOFFSETFROM:-0700
TZOFFSETTO:-0800
TZNAME:America/Los_Angeles PST
END:STANDARD
BEGIN:STANDARD
DTSTART:20311102T010000
RDATE:20320314T030000
TZOFFSETFROM:-0700
TZOFFSETTO:-0800
TZNAME:America/Los_Angeles PST
END:STANDARD
BEGIN:DAYLIGHT
DTSTART:20181001T180000
RDATE:20181104T010000
TZOFFSETFROM:-0800
TZOFFSETTO:-0700
TZNAME:America/Los_Angeles PDT
END:DAYLIGHT
BEGIN:DAYLIGHT
DTSTART:20190310T030000
RDATE:20191103T010000
TZOFFSETFROM:-0800
TZOFFSETTO:-0700
TZNAME:America/Los_Angeles PDT
END:DAYLIGHT
BEGIN:DAYLIGHT
DTSTART:20200308T030000
RDATE:20201101T010000
TZOFFSETFROM:-0800
TZOFFSETTO:-0700
TZNAME:America/Los_Angeles PDT
END:DAYLIGHT
BEGIN:DAYLIGHT
DTSTART:20210314T030000
RDATE:20211107T010000
TZOFFSETFROM:-0800
TZOFFSETTO:-0700
TZNAME:America/Los_Angeles PDT
END:DAYLIGHT
BEGIN:DAYLIGHT
DTSTART:20220313T030000
RDATE:20221106T010000
TZOFFSETFROM:-0800
TZOFFSETTO:-0700
TZNAME:America/Los_Angeles PDT
END:DAYLIGHT
BEGIN:DAYLIGHT
DTSTART:20230312T030000
RDATE:20231105T010000
TZOFFSETFROM:-0800
TZOFFSETTO:-0700
TZNAME:America/Los_Angeles PDT
END:DAYLIGHT
BEGIN:DAYLIGHT
DTSTART:20240310T030000
RDATE:20241103T010000
TZOFFSETFROM:-0800
TZOFFSETTO:-0700
TZNAME:America/Los_Angeles PDT
END:DAYLIGHT
BEGIN:DAYLIGHT
DTSTART:20250309T030000
RDATE:20251102T010000
TZOFFSETFROM:-0800
TZOFFSETTO:-0700
TZNAME:America/Los_Angeles PDT
END:DAYLIGHT
BEGIN:DAYLIGHT
DTSTART:20260308T030000
RDATE:20261101T010000
TZOFFSETFROM:-0800
TZOFFSETTO:-0700
TZNAME:America/Los_Angeles PDT
END:DAYLIGHT
BEGIN:DAYLIGHT
DTSTART:20270314T030000
RDATE:20271107T010000
TZOFFSETFROM:-0800
TZOFFSETTO:-0700
TZNAME:America/Los_Angeles PDT
END:DAYLIGHT
BEGIN:DAYLIGHT
DTSTART:20280312T030000
RDATE:20281105T010000
TZOFFSETFROM:-0800
TZOFFSETTO:-0700
TZNAME:America/Los_Angeles PDT
END:DAYLIGHT
BEGIN:DAYLIGHT
DTSTART:20290311T030000
RDATE:20291104T010000
TZOFFSETFROM:-0800
TZOFFSETTO:-0700
TZNAME:America/Los_Angeles PDT
END:DAYLIGHT
BEGIN:DAYLIGHT
DTSTART:20300310T030000
RDATE:20301103T010000
TZOFFSETFROM:-0800
TZOFFSETTO:-0700
TZNAME:America/Los_Angeles PDT
END:DAYLIGHT
BEGIN:DAYLIGHT
DTSTART:20310309T030000
RDATE:20311102T010000
TZOFFSETFROM:-0800
TZOFFSETTO:-0700
TZNAME:America/Los_Angeles PDT
END:DAYLIGHT
END:VTIMEZONE
BEGIN:VEVENT
UID:1e3f28c7cd9579fbaf1dbc4b0e31f570
CATEGORIES:Diocesan Events
CREATED:20190925T135049
SUMMARY:Love One Another Prayer Service- Officer Andre Moye Jr.
DESCRIPTION:Riverside Vicariate\n Officer Andre Moye, Jr., Age 34.  Killed on August 1
 2, 2019. \nPrayer service for: Officer Andre Moye Jr.       Date/Time:     
           Wednesday, October 2, 2019 @ 6:00pm\n Prayer Location:        Mee
 t at 6596 Box Springs Blvd. Riverside (Corner of Eastridge Ave.and Box Spri
 ngs Blvd)\n                                  Eucalyptus Ave/ Eastridge Ave 
 over the 215 Freeway.\nPresider:                   Fr. Johnny Dang, St. Pat
 rick, Moreno Valley\n \n \n \n
X-ALT-DESC;FMTTYPE=text/html:<p class="MsoNormal" style="mso-pagination: none; text-align: center;"><spa
 n lang="en-US" style="font-size: 16.0pt; line-height: 119%; font-family: Ca
 libri; text-decoration: underline; text-underline: single; font-weight: bol
 d; language: en-US; mso-ansi-language: en-US; mso-ligatures: none;">Riversi
 de Vicariate</span></p><p class="MsoNormal" style="mso-pagination: none; li
 ne-height: 125%;"><span lang="en-US" style="font-size: 14.0pt; line-height:
  125%; font-family: 'Wingdings 2'; mso-default-font-family: 'Wingdings 2'; 
 mso-ascii-font-family: 'Wingdings 2'; mso-latin-font-family: 'Wingdings 2';
  mso-eudc-font-family: 'Wingdings 2'; mso-latinext-font-family: 'Wingdings 
 2'; color: black; mso-style-textfill-type: solid; mso-style-textfill-fill-c
 olor: black; mso-style-textfill-fill-alpha: 100%; language: en-US; mso-ansi
 -language: en-US; mso-ligatures: none;"></span><span lang="en-US" style="f
 ont-size: 14.0pt; line-height: 125%; font-family: Calibri; color: black; ms
 o-style-textfill-type: solid; mso-style-textfill-fill-color: black; mso-sty
 le-textfill-fill-alpha: 100%; language: en-US; mso-ansi-language: en-US; ms
 o-ligatures: none;"> Officer Andre Moye, Jr., Age 34.  Killed on August 12,
  2019. </span></p><h1 style="mso-pagination: none; line-height: 125%;"><spa
 n style="font-size: 13.5pt;"><strong><span lang="en-US" style="line-height:
  125%; font-family: 'Segoe UI';">Prayer service for: </span></strong></span
 ><span lang="en-US" style="font-size: 13.5pt; line-height: 125%; font-famil
 y: 'Segoe UI';"><strong>Officer Andre Moye Jr.   </strong>    </span></h1><
 p class="MsoNormal" style="mso-pagination: none; margin-bottom: 0pt; line-h
 eight: 125%;"><span lang="en-US" style="font-size: 13.5pt; line-height: 125
 %; font-family: 'Segoe UI'; mso-default-font-family: 'Segoe UI'; mso-ascii-
 font-family: 'Segoe UI'; mso-latin-font-family: 'Segoe UI'; mso-greek-font-
 family: 'Segoe UI'; mso-cyrillic-font-family: 'Segoe UI'; mso-armenian-font
 -family: 'Segoe UI'; mso-hebrew-font-family: 'Segoe UI'; mso-arabic-font-fa
 mily: 'Segoe UI'; mso-thai-font-family: 'Segoe UI'; mso-currency-font-famil
 y: 'Segoe UI'; mso-latinext-font-family: 'Segoe UI'; color: black; mso-styl
 e-textfill-type: solid; mso-style-textfill-fill-color: black; mso-style-tex
 tfill-fill-alpha: 100%; language: en-US; mso-ansi-language: en-US; mso-liga
 tures: none;">Date/Time:               <strong>Wednesday, October 2, 2019 @
  6:00pm</strong><br /> Prayer Location:        Meet at 6596 Box Springs Blv
 d. Riverside (Corner of Eastridge Ave.and Box Springs Blvd)</span></p><p cl
 ass="MsoNormal" style="mso-pagination: none; margin-bottom: 0pt; line-heigh
 t: 125%;"><span lang="en-US" style="font-size: 13.5pt; line-height: 125%; f
 ont-family: 'Segoe UI'; mso-default-font-family: 'Segoe UI'; mso-ascii-font
 -family: 'Segoe UI'; mso-latin-font-family: 'Segoe UI'; mso-greek-font-fami
 ly: 'Segoe UI'; mso-cyrillic-font-family: 'Segoe UI'; mso-armenian-font-fam
 ily: 'Segoe UI'; mso-hebrew-font-family: 'Segoe UI'; mso-arabic-font-family
 : 'Segoe UI'; mso-thai-font-family: 'Segoe UI'; mso-currency-font-family: '
 Segoe UI'; mso-latinext-font-family: 'Segoe UI'; color: black; mso-style-te
 xtfill-type: solid; mso-style-textfill-fill-color: black; mso-style-textfil
 l-fill-alpha: 100%; language: en-US; mso-ansi-language: en-US; mso-ligature
 s: none;">                                  Eucalyptus Ave/ Eastridge Ave o
 ver the 215 Freeway.</span></p><p class="MsoNormal" style="mso-pagination: 
 none; margin-bottom: 0pt; line-height: 125%;"><span lang="en-US" style="fon
 t-size: 13.5pt; line-height: 125%; font-family: 'Segoe UI'; mso-default-fon
 t-family: 'Segoe UI'; mso-ascii-font-family: 'Segoe UI'; mso-latin-font-fam
 ily: 'Segoe UI'; mso-greek-font-family: 'Segoe UI'; mso-cyrillic-font-famil
 y: 'Segoe UI'; mso-armenian-font-family: 'Segoe UI'; mso-hebrew-font-family
 : 'Segoe UI'; mso-arabic-font-family: 'Segoe UI'; mso-thai-font-family: 'Se
 goe UI'; mso-currency-font-family: 'Segoe UI'; mso-latinext-font-family: 'S
 egoe UI'; color: black; mso-style-textfill-type: solid; mso-style-textfill-
 fill-color: black; mso-style-textfill-fill-alpha: 100%; language: en-US; ms
 o-ansi-language: en-US; mso-bidi-language: ar-SA; mso-ligatures: none;">Pre
 sider:                   Fr. Johnny Dang, St. Patrick, Moreno Valley</span>
 </p><p class="MsoNormal" style="mso-pagination: none; line-height: 125%;"> 
 </p><p class="MsoNormal"><span lang="en-US"> </span></p><p class="MsoNormal
 " style="mso-pagination: none;"><span lang="en-US" style="language: en-US; 
 mso-ligatures: none;"> </span></p>
DTSTAMP:20260421T100731
DTSTART;TZID=America/Los_Angeles:20191002T180000
DTEND;TZID=America/Los_Angeles:20191002T183000
SEQUENCE:0
TRANSP:OPAQUE
END:VEVENT
END:VCALENDAR