BEGIN:VCALENDAR
VERSION:2.0
PRODID:-//jEvents 2.0 for Joomla//EN
CALSCALE:GREGORIAN
METHOD:PUBLISH
BEGIN:VTIMEZONE
TZID:America/Los_Angeles
BEGIN:STANDARD
DTSTART:20181104T010000
RDATE:20190310T030000
TZOFFSETFROM:-0700
TZOFFSETTO:-0800
TZNAME:America/Los_Angeles PST
END:STANDARD
BEGIN:STANDARD
DTSTART:20191103T010000
RDATE:20200308T030000
TZOFFSETFROM:-0700
TZOFFSETTO:-0800
TZNAME:America/Los_Angeles PST
END:STANDARD
BEGIN:STANDARD
DTSTART:20201101T010000
RDATE:20210314T030000
TZOFFSETFROM:-0700
TZOFFSETTO:-0800
TZNAME:America/Los_Angeles PST
END:STANDARD
BEGIN:STANDARD
DTSTART:20211107T010000
RDATE:20220313T030000
TZOFFSETFROM:-0700
TZOFFSETTO:-0800
TZNAME:America/Los_Angeles PST
END:STANDARD
BEGIN:STANDARD
DTSTART:20221106T010000
RDATE:20230312T030000
TZOFFSETFROM:-0700
TZOFFSETTO:-0800
TZNAME:America/Los_Angeles PST
END:STANDARD
BEGIN:STANDARD
DTSTART:20231105T010000
RDATE:20240310T030000
TZOFFSETFROM:-0700
TZOFFSETTO:-0800
TZNAME:America/Los_Angeles PST
END:STANDARD
BEGIN:STANDARD
DTSTART:20241103T010000
RDATE:20250309T030000
TZOFFSETFROM:-0700
TZOFFSETTO:-0800
TZNAME:America/Los_Angeles PST
END:STANDARD
BEGIN:STANDARD
DTSTART:20251102T010000
RDATE:20260308T030000
TZOFFSETFROM:-0700
TZOFFSETTO:-0800
TZNAME:America/Los_Angeles PST
END:STANDARD
BEGIN:STANDARD
DTSTART:20261101T010000
RDATE:20270314T030000
TZOFFSETFROM:-0700
TZOFFSETTO:-0800
TZNAME:America/Los_Angeles PST
END:STANDARD
BEGIN:STANDARD
DTSTART:20271107T010000
RDATE:20280312T030000
TZOFFSETFROM:-0700
TZOFFSETTO:-0800
TZNAME:America/Los_Angeles PST
END:STANDARD
BEGIN:STANDARD
DTSTART:20281105T010000
RDATE:20290311T030000
TZOFFSETFROM:-0700
TZOFFSETTO:-0800
TZNAME:America/Los_Angeles PST
END:STANDARD
BEGIN:STANDARD
DTSTART:20291104T010000
RDATE:20300310T030000
TZOFFSETFROM:-0700
TZOFFSETTO:-0800
TZNAME:America/Los_Angeles PST
END:STANDARD
BEGIN:STANDARD
DTSTART:20301103T010000
RDATE:20310309T030000
TZOFFSETFROM:-0700
TZOFFSETTO:-0800
TZNAME:America/Los_Angeles PST
END:STANDARD
BEGIN:STANDARD
DTSTART:20311102T010000
RDATE:20320314T030000
TZOFFSETFROM:-0700
TZOFFSETTO:-0800
TZNAME:America/Los_Angeles PST
END:STANDARD
BEGIN:DAYLIGHT
DTSTART:20181004T083000
RDATE:20181104T010000
TZOFFSETFROM:-0800
TZOFFSETTO:-0700
TZNAME:America/Los_Angeles PDT
END:DAYLIGHT
BEGIN:DAYLIGHT
DTSTART:20190310T030000
RDATE:20191103T010000
TZOFFSETFROM:-0800
TZOFFSETTO:-0700
TZNAME:America/Los_Angeles PDT
END:DAYLIGHT
BEGIN:DAYLIGHT
DTSTART:20200308T030000
RDATE:20201101T010000
TZOFFSETFROM:-0800
TZOFFSETTO:-0700
TZNAME:America/Los_Angeles PDT
END:DAYLIGHT
BEGIN:DAYLIGHT
DTSTART:20210314T030000
RDATE:20211107T010000
TZOFFSETFROM:-0800
TZOFFSETTO:-0700
TZNAME:America/Los_Angeles PDT
END:DAYLIGHT
BEGIN:DAYLIGHT
DTSTART:20220313T030000
RDATE:20221106T010000
TZOFFSETFROM:-0800
TZOFFSETTO:-0700
TZNAME:America/Los_Angeles PDT
END:DAYLIGHT
BEGIN:DAYLIGHT
DTSTART:20230312T030000
RDATE:20231105T010000
TZOFFSETFROM:-0800
TZOFFSETTO:-0700
TZNAME:America/Los_Angeles PDT
END:DAYLIGHT
BEGIN:DAYLIGHT
DTSTART:20240310T030000
RDATE:20241103T010000
TZOFFSETFROM:-0800
TZOFFSETTO:-0700
TZNAME:America/Los_Angeles PDT
END:DAYLIGHT
BEGIN:DAYLIGHT
DTSTART:20250309T030000
RDATE:20251102T010000
TZOFFSETFROM:-0800
TZOFFSETTO:-0700
TZNAME:America/Los_Angeles PDT
END:DAYLIGHT
BEGIN:DAYLIGHT
DTSTART:20260308T030000
RDATE:20261101T010000
TZOFFSETFROM:-0800
TZOFFSETTO:-0700
TZNAME:America/Los_Angeles PDT
END:DAYLIGHT
BEGIN:DAYLIGHT
DTSTART:20270314T030000
RDATE:20271107T010000
TZOFFSETFROM:-0800
TZOFFSETTO:-0700
TZNAME:America/Los_Angeles PDT
END:DAYLIGHT
BEGIN:DAYLIGHT
DTSTART:20280312T030000
RDATE:20281105T010000
TZOFFSETFROM:-0800
TZOFFSETTO:-0700
TZNAME:America/Los_Angeles PDT
END:DAYLIGHT
BEGIN:DAYLIGHT
DTSTART:20290311T030000
RDATE:20291104T010000
TZOFFSETFROM:-0800
TZOFFSETTO:-0700
TZNAME:America/Los_Angeles PDT
END:DAYLIGHT
BEGIN:DAYLIGHT
DTSTART:20300310T030000
RDATE:20301103T010000
TZOFFSETFROM:-0800
TZOFFSETTO:-0700
TZNAME:America/Los_Angeles PDT
END:DAYLIGHT
BEGIN:DAYLIGHT
DTSTART:20310309T030000
RDATE:20311102T010000
TZOFFSETFROM:-0800
TZOFFSETTO:-0700
TZNAME:America/Los_Angeles PDT
END:DAYLIGHT
END:VTIMEZONE
BEGIN:VEVENT
UID:1cf84c21e89d4468ae84692d9d3434e0
CATEGORIES:Diocesan Events
CREATED:20191002T124552
SUMMARY:RCIA Specialization Course
LOCATION:Diocesan Pastoral Center 1201 E. Highland Ave. San Bernardino CA 92404
DESCRIPTION:<p class="MsoNormal" style="margin-bottom: .0001pt; line-height: normal;"><
 span style="font-family: 'Calisto MT',serif; mso-fareast-font-family: 'Time
 s New Roman'; mso-bidi-font-family: Tahoma; color: #333333;">This specializ
 ation course is for Priests, Pastoral Coordinators, Directors and Coordinat
 ors of Catechesis, RCIA Coordinators, Catechists and Team Members. The spec
 ialization course will include an overview of the Initiation process, the R
 ites, and the time of Mystagogy. </span></p><p class="MsoNormal" style="mar
 gin-bottom: .0001pt; line-height: normal;"><span style="font-family: 'Calis
 to MT',serif; mso-fareast-font-family: 'Times New Roman'; mso-bidi-font-fam
 ily: Tahoma; color: #333333;"> </span>Attendance to all four days is necess
 ary to complete the RCIA Specialization. Participants should assure that th
 ey bring the study edition of the Rite of Christian Initiation of Adults. I
 f you do not have one, please specify if you would like for us to order you
  a copy. </p><p class="MsoNormal" style="margin-bottom: .0001pt; line-heigh
 t: normal;">Bring your lunch. </p><p class="MsoNormal" style="margin-bottom
 : .0001pt; line-height: normal;"><b><span style="font-family: 'Calisto MT',
 serif; mso-fareast-font-family: 'Times New Roman'; mso-bidi-font-family: 'T
 imes New Roman';">WHEN: </span></b><span style="font-family: 'Calisto MT',s
 erif; mso-fareast-font-family: 'Times New Roman'; mso-bidi-font-family: 'Ti
 mes New Roman';">Day 1: Saturday, October 5, 2019</span></p><p class="MsoNo
 rmal" style="margin-bottom: .0001pt; line-height: normal;"><span style="fon
 t-family: 'Calisto MT',serif; mso-fareast-font-family: 'Times New Roman'; m
 so-bidi-font-family: 'Times New Roman';">Day 2: Sunday, October 6, 2019 (Th
 e day begins with mass 7:30AM with Mass)</span></p><p class="MsoNormal" sty
 le="margin-bottom: .0001pt; line-height: normal;"><span style="font-family:
  'Calisto MT',serif; mso-fareast-font-family: 'Times New Roman'; mso-bidi-f
 ont-family: 'Times New Roman';">Day 3: Saturday October 12, 2019</span></p>
 <p class="MsoNormal" style="margin-bottom: .0001pt; line-height: normal;"><
 span style="font-family: 'Calisto MT',serif; mso-fareast-font-family: 'Time
 s New Roman'; mso-bidi-font-family: 'Times New Roman';">Day 4: Sunday Octob
 er 13, 2019 (The day begins with mass 7:30AM with Mass)</span></p><p class=
 "MsoNormal" style="margin-bottom: .0001pt; line-height: normal;"><b><span s
 tyle="font-family: 'Calisto MT',serif; mso-fareast-font-family: 'Times New 
 Roman'; mso-bidi-font-family: 'Times New Roman';">TIME: </span></b><span st
 yle="font-family: 'Calisto MT',serif; mso-fareast-font-family: 'Times New R
 oman'; mso-bidi-font-family: 'Times New Roman';">8:30 am - 4:30 pm</span></
 p><p class="MsoNormal" style="margin-bottom: .0001pt; line-height: normal;"
 ><b><span style="font-family: 'Calisto MT',serif; mso-fareast-font-family: 
 'Times New Roman'; mso-bidi-font-family: 'Times New Roman';">COST: </span><
 /b><span style="font-family: 'Calisto MT',serif; mso-fareast-font-family: '
 Times New Roman'; mso-bidi-font-family: 'Times New Roman';">$70.00 Registra
 tion</span></p><p class="MsoNormal" style="margin-bottom: .0001pt; line-hei
 ght: normal; mso-layout-grid-align: none; text-autospace: none;"> </p><p cl
 ass="MsoNormal" style="margin-bottom: .0001pt; line-height: normal; mso-lay
 out-grid-align: none; text-autospace: none;"><span lang="ES-US" style="font
 -family: 'Calisto MT',serif; mso-bidi-font-family: Calibri; mso-ansi-langua
 ge: ES-US;">Este curso de especialización se dirige a los Sacerdotes, Coord
 inadores pastorales, Directores y Coordinadores de la catequesis, Coordinad
 ores de RICA, catequistas y miembros del equipo. En el curso de especializa
 ción se incluirá una descripción general de la iniciación, los ritos, y el 
 tiempo de mistagógia.</span></p><p class="MsoNormal" style="margin-bottom: 
 .0001pt; line-height: normal; mso-layout-grid-align: none; text-autospace: 
 none;"><span lang="ES-US" style="font-family: 'Calisto MT',serif; mso-bidi-
 font-family: Calibri; mso-ansi-language: ES-US;">Asistir a los cuatro días 
 es necesario para completar la Especialización en RICA. Los participantes d
 eben asegurarse de traer con ellos el libro del Rito de la iniciación crist
 iana de adultos, edición estudio. Si usted no tiene uno, por favor, especif
 ique si desea que nosotros le proporcionemos uno, para pedir una copia.</sp
 an></p><p class="MsoNormal" style="margin-bottom: .0001pt; line-height: nor
 mal; mso-layout-grid-align: none; text-autospace: none;"><span lang="ES-US"
 ><span style="font-family: 'Calisto MT', serif;">Traiga su almuerzo</span><
 /span></p><p class="MsoNormal" style="margin-bottom: .0001pt; line-height: 
 normal; mso-layout-grid-align: none; text-autospace: none;"><span lang="ES-
 US" style="font-family: 'Calisto MT',serif; mso-bidi-font-family: Calibri; 
 mso-ansi-language: ES-US;"> </span><b><span lang="ES-US" style="font-family
 : 'Calisto MT',serif; mso-bidi-font-family: 'Calibri,Bold'; mso-ansi-langua
 ge: ES-US;">Cuando</span></b><span lang="ES-US" style="font-family: 'Calist
 o MT',serif; mso-bidi-font-family: Calibri; mso-ansi-language: ES-US;">: Pr
 imer día 1: Sábado, 5 de Octubre del 2019.</span></p><p class="MsoNormal" s
 tyle="margin-bottom: .0001pt; line-height: normal; mso-layout-grid-align: n
 one; text-autospace: none;"><span lang="ES-US" style="font-family: 'Calisto
  MT',serif; mso-bidi-font-family: Calibri; mso-ansi-language: ES-US;">Segun
 do día Domingo, 6 de Octubre del 2019( El día dará comienzo con misa a las 
 7:30AM)</span></p><p class="MsoNormal" style="margin-bottom: .0001pt; line-
 height: normal; mso-layout-grid-align: none; text-autospace: none;"><span l
 ang="ES-US" style="font-family: 'Calisto MT',serif; mso-bidi-font-family: C
 alibri; mso-ansi-language: ES-US;">Tercer día: Sábado, 12 de Octubre del 20
 19.</span></p><p class="MsoNormal" style="margin-bottom: .0001pt; line-heig
 ht: normal; mso-layout-grid-align: none; text-autospace: none;"><span lang=
 "ES-US" style="font-family: 'Calisto MT',serif; mso-bidi-font-family: Calib
 ri; mso-ansi-language: ES-US;">Cuarto día: Domingo, 13 de Octubre del 2019.
  (El día dará comienzo con misa a las </span><b><span lang="ES-US" style="f
 ont-family: 'Calisto MT',serif; mso-bidi-font-family: 'Calibri,Bold'; mso-a
 nsi-language: ES-US;">7:30AM)</span></b></p><p class="MsoNormal" style="mar
 gin-bottom: .0001pt; line-height: normal; mso-layout-grid-align: none; text
 -autospace: none;"><b><span lang="ES-US" style="font-family: 'Calisto MT',s
 erif; mso-bidi-font-family: 'Calibri,Bold'; mso-ansi-language: ES-US;">Hora
 : </span></b><span lang="ES-US" style="font-family: 'Calisto MT',serif; mso
 -bidi-font-family: Calibri; mso-ansi-language: ES-US;">8:30 am - 4:30 pm</s
 pan></p><p class="MsoNormal" style="margin-bottom: .0001pt; line-height: no
 rmal; mso-layout-grid-align: none; text-autospace: none;"><b><span lang="ES
 -US" style="font-family: 'Calisto MT',serif; mso-bidi-font-family: 'Calibri
 ,Bold'; mso-ansi-language: ES-US;">Costo: </span></b><span lang="ES-US" sty
 le="font-family: 'Calisto MT',serif; mso-bidi-font-family: Calibri; mso-ans
 i-language: ES-US;">$70.00 Inscripción</span></p>
CONTACT:Susana Soto (909) 475-5452 | This email address is being protected from spambots. You need JavaScript enabled to view it.
				document.getElementById('cloak96265203ed77ff7c411af3b4d8c98172').innerHTML = '';
				var prefix = '&#109;a' + 'i&#108;' + '&#116;o';
				var path = 'hr' + 'ef' + '=';
				var addy96265203ed77ff7c411af3b4d8c98172 = 'ss&#111;t&#111;' + '&#64;';
				addy96265203ed77ff7c411af3b4d8c98172 = addy96265203ed77ff7c411af3b4d8c98172 + 'sbd&#105;&#111;c&#101;s&#101;' + '&#46;' + '&#111;rg';
				var addy_text96265203ed77ff7c411af3b4d8c98172 = 'ss&#111;t&#111;' + '&#64;' + 'sbd&#105;&#111;c&#101;s&#101;' + '&#46;' + '&#111;rg';document.getElementById('cloak96265203ed77ff7c411af3b4d8c98172').innerHTML += '<a ' + path + '\'' + prefix + ':' + addy96265203ed77ff7c411af3b4d8c98172 + '\'>'+addy_text96265203ed77ff7c411af3b4d8c98172+'';
		
DTSTAMP:20260421T095533
DTSTART;TZID=America/Los_Angeles:20191005T083000
DTEND;TZID=America/Los_Angeles:20191005T163000
SEQUENCE:0
TRANSP:OPAQUE
END:VEVENT
END:VCALENDAR