BEGIN:VCALENDAR
VERSION:2.0
PRODID:-//jEvents 2.0 for Joomla//EN
CALSCALE:GREGORIAN
METHOD:PUBLISH
BEGIN:VTIMEZONE
TZID:America/Los_Angeles
BEGIN:STANDARD
DTSTART:20181124T170000
RDATE:20190310T030000
TZOFFSETFROM:-0700
TZOFFSETTO:-0800
TZNAME:America/Los_Angeles PST
END:STANDARD
BEGIN:STANDARD
DTSTART:20191103T010000
RDATE:20200308T030000
TZOFFSETFROM:-0700
TZOFFSETTO:-0800
TZNAME:America/Los_Angeles PST
END:STANDARD
BEGIN:STANDARD
DTSTART:20201101T010000
RDATE:20210314T030000
TZOFFSETFROM:-0700
TZOFFSETTO:-0800
TZNAME:America/Los_Angeles PST
END:STANDARD
BEGIN:STANDARD
DTSTART:20211107T010000
RDATE:20220313T030000
TZOFFSETFROM:-0700
TZOFFSETTO:-0800
TZNAME:America/Los_Angeles PST
END:STANDARD
BEGIN:STANDARD
DTSTART:20221106T010000
RDATE:20230312T030000
TZOFFSETFROM:-0700
TZOFFSETTO:-0800
TZNAME:America/Los_Angeles PST
END:STANDARD
BEGIN:STANDARD
DTSTART:20231105T010000
RDATE:20240310T030000
TZOFFSETFROM:-0700
TZOFFSETTO:-0800
TZNAME:America/Los_Angeles PST
END:STANDARD
BEGIN:STANDARD
DTSTART:20241103T010000
RDATE:20250309T030000
TZOFFSETFROM:-0700
TZOFFSETTO:-0800
TZNAME:America/Los_Angeles PST
END:STANDARD
BEGIN:STANDARD
DTSTART:20251102T010000
RDATE:20260308T030000
TZOFFSETFROM:-0700
TZOFFSETTO:-0800
TZNAME:America/Los_Angeles PST
END:STANDARD
BEGIN:STANDARD
DTSTART:20261101T010000
RDATE:20270314T030000
TZOFFSETFROM:-0700
TZOFFSETTO:-0800
TZNAME:America/Los_Angeles PST
END:STANDARD
BEGIN:STANDARD
DTSTART:20271107T010000
RDATE:20280312T030000
TZOFFSETFROM:-0700
TZOFFSETTO:-0800
TZNAME:America/Los_Angeles PST
END:STANDARD
BEGIN:STANDARD
DTSTART:20281105T010000
RDATE:20290311T030000
TZOFFSETFROM:-0700
TZOFFSETTO:-0800
TZNAME:America/Los_Angeles PST
END:STANDARD
BEGIN:STANDARD
DTSTART:20291104T010000
RDATE:20300310T030000
TZOFFSETFROM:-0700
TZOFFSETTO:-0800
TZNAME:America/Los_Angeles PST
END:STANDARD
BEGIN:STANDARD
DTSTART:20301103T010000
RDATE:20310309T030000
TZOFFSETFROM:-0700
TZOFFSETTO:-0800
TZNAME:America/Los_Angeles PST
END:STANDARD
BEGIN:STANDARD
DTSTART:20311102T010000
RDATE:20320314T030000
TZOFFSETFROM:-0700
TZOFFSETTO:-0800
TZNAME:America/Los_Angeles PST
END:STANDARD
BEGIN:DAYLIGHT
DTSTART:20190310T030000
RDATE:20191103T010000
TZOFFSETFROM:-0800
TZOFFSETTO:-0700
TZNAME:America/Los_Angeles PDT
END:DAYLIGHT
BEGIN:DAYLIGHT
DTSTART:20200308T030000
RDATE:20201101T010000
TZOFFSETFROM:-0800
TZOFFSETTO:-0700
TZNAME:America/Los_Angeles PDT
END:DAYLIGHT
BEGIN:DAYLIGHT
DTSTART:20210314T030000
RDATE:20211107T010000
TZOFFSETFROM:-0800
TZOFFSETTO:-0700
TZNAME:America/Los_Angeles PDT
END:DAYLIGHT
BEGIN:DAYLIGHT
DTSTART:20220313T030000
RDATE:20221106T010000
TZOFFSETFROM:-0800
TZOFFSETTO:-0700
TZNAME:America/Los_Angeles PDT
END:DAYLIGHT
BEGIN:DAYLIGHT
DTSTART:20230312T030000
RDATE:20231105T010000
TZOFFSETFROM:-0800
TZOFFSETTO:-0700
TZNAME:America/Los_Angeles PDT
END:DAYLIGHT
BEGIN:DAYLIGHT
DTSTART:20240310T030000
RDATE:20241103T010000
TZOFFSETFROM:-0800
TZOFFSETTO:-0700
TZNAME:America/Los_Angeles PDT
END:DAYLIGHT
BEGIN:DAYLIGHT
DTSTART:20250309T030000
RDATE:20251102T010000
TZOFFSETFROM:-0800
TZOFFSETTO:-0700
TZNAME:America/Los_Angeles PDT
END:DAYLIGHT
BEGIN:DAYLIGHT
DTSTART:20260308T030000
RDATE:20261101T010000
TZOFFSETFROM:-0800
TZOFFSETTO:-0700
TZNAME:America/Los_Angeles PDT
END:DAYLIGHT
BEGIN:DAYLIGHT
DTSTART:20270314T030000
RDATE:20271107T010000
TZOFFSETFROM:-0800
TZOFFSETTO:-0700
TZNAME:America/Los_Angeles PDT
END:DAYLIGHT
BEGIN:DAYLIGHT
DTSTART:20280312T030000
RDATE:20281105T010000
TZOFFSETFROM:-0800
TZOFFSETTO:-0700
TZNAME:America/Los_Angeles PDT
END:DAYLIGHT
BEGIN:DAYLIGHT
DTSTART:20290311T030000
RDATE:20291104T010000
TZOFFSETFROM:-0800
TZOFFSETTO:-0700
TZNAME:America/Los_Angeles PDT
END:DAYLIGHT
BEGIN:DAYLIGHT
DTSTART:20300310T030000
RDATE:20301103T010000
TZOFFSETFROM:-0800
TZOFFSETTO:-0700
TZNAME:America/Los_Angeles PDT
END:DAYLIGHT
BEGIN:DAYLIGHT
DTSTART:20310309T030000
RDATE:20311102T010000
TZOFFSETFROM:-0800
TZOFFSETTO:-0700
TZNAME:America/Los_Angeles PDT
END:DAYLIGHT
END:VTIMEZONE
BEGIN:VEVENT
UID:f800a2917fe74ab95676e63ebe6b0d31
CATEGORIES:Parish Events
CREATED:20191120T134345
SUMMARY:Love One Another Prayer Service- Ayo Hullet
DESCRIPTION:<p class="MsoNormal" style="mso-pagination: none; text-align: center;"><spa
 n lang="en-US" style="font-size: 12.5pt; line-height: 119%; font-family: Ca
 libri; text-decoration: underline; text-underline: single; font-weight: bol
 d; language: en-US; mso-ansi-language: en-US; mso-ligatures: none;">San Ber
 nardino Vicariate</span></p><p class="MsoNormal" style="mso-pagination: non
 e;"><span lang="en-US" style="font-size: 13.5pt; font-family: Calibri; mso-
 armenian-font-family: Calibri; mso-hebrew-font-family: Calibri; mso-arabic-
 font-family: Calibri; mso-georgian-font-family: 'Segoe UI'; mso-eudc-font-f
 amily: Calibri; font-weight: bold; language: en-US; mso-ansi-language: en-U
 S; mso-ligatures: none;">†</span> <span lang="en-US" style="font-size: 13.5
 pt; font-family: 'Segoe UI'; mso-default-font-family: 'Segoe UI'; mso-ascii
 -font-family: 'Segoe UI'; mso-latin-font-family: 'Segoe UI'; mso-greek-font
 -family: 'Segoe UI'; mso-cyrillic-font-family: 'Segoe UI'; mso-armenian-fon
 t-family: 'Segoe UI'; mso-hebrew-font-family: 'Segoe UI'; mso-arabic-font-f
 amily: 'Segoe UI'; mso-georgian-font-family: 'Segoe UI'; mso-currency-font-
 family: 'Segoe UI'; mso-latinext-font-family: 'Segoe UI'; language: en-US; 
 mso-ansi-language: en-US; mso-ligatures: none;">Ayo Hullet, age 27 of San B
 ernardino. Killed on October 12, 2019.</span></p><p class="MsoNormal" style
 ="mso-pagination: none; margin-bottom: 0pt;"><span lang="en-US" style="font
 -size: 13.5pt; line-height: 119%; font-family: 'Segoe UI'; mso-default-font
 -family: 'Segoe UI'; mso-ascii-font-family: 'Segoe UI'; mso-latin-font-fami
 ly: 'Segoe UI'; mso-greek-font-family: 'Segoe UI'; mso-cyrillic-font-family
 : 'Segoe UI'; mso-armenian-font-family: 'Segoe UI'; mso-hebrew-font-family:
  'Segoe UI'; mso-arabic-font-family: 'Segoe UI'; mso-georgian-font-family: 
 'Segoe UI'; mso-currency-font-family: 'Segoe UI'; mso-latinext-font-family:
  'Segoe UI'; color: black; mso-style-textfill-type: solid; mso-style-textfi
 ll-fill-color: black; mso-style-textfill-fill-alpha: 100%; language: en-US;
  mso-ansi-language: en-US; mso-ligatures: none;">Prayer service for: </span
 ><span lang="en-US" style="font-size: 13.5pt; line-height: 119%; font-famil
 y: 'Segoe UI'; mso-default-font-family: 'Segoe UI'; mso-ascii-font-family: 
 'Segoe UI'; mso-latin-font-family: 'Segoe UI'; mso-greek-font-family: 'Sego
 e UI'; mso-cyrillic-font-family: 'Segoe UI'; mso-armenian-font-family: 'Seg
 oe UI'; mso-hebrew-font-family: 'Segoe UI'; mso-arabic-font-family: 'Segoe 
 UI'; mso-georgian-font-family: 'Segoe UI'; mso-currency-font-family: 'Segoe
  UI'; mso-latinext-font-family: 'Segoe UI'; color: black; mso-style-textfil
 l-type: solid; mso-style-textfill-fill-color: black; mso-style-textfill-fil
 l-alpha: 100%; font-weight: bold; language: en-US; mso-ansi-language: en-US
 ; mso-ligatures: none;">Ayo Hullet</span></p><p class="MsoNormal" style="ms
 o-pagination: widow-orphan; margin-bottom: 0pt; line-height: 125%;"><span l
 ang="en-US" style="font-size: 13.5pt; line-height: 125%; font-family: 'Sego
 e UI'; mso-default-font-family: 'Segoe UI'; mso-ascii-font-family: 'Segoe U
 I'; mso-latin-font-family: 'Segoe UI'; mso-greek-font-family: 'Segoe UI'; m
 so-cyrillic-font-family: 'Segoe UI'; mso-armenian-font-family: 'Segoe UI'; 
 mso-hebrew-font-family: 'Segoe UI'; mso-arabic-font-family: 'Segoe UI'; mso
 -georgian-font-family: 'Segoe UI'; mso-currency-font-family: 'Segoe UI'; ms
 o-latinext-font-family: 'Segoe UI'; color: black; mso-style-textfill-type: 
 solid; mso-style-textfill-fill-color: black; mso-style-textfill-fill-alpha:
  100%; language: en-US; mso-ansi-language: en-US; mso-ligatures: none;">Dat
 e/Time:          <span style="mso-spacerun: yes;">  </span><span style="tex
 t-decoration: underline;">Monday, November 25, 2019 @ 5:00pm</span></span><
 /p><p class="MsoNormal" style="mso-pagination: widow-orphan; margin-bottom:
  0pt; line-height: 125%;"><span lang="en-US" style="font-size: 13.5pt; line
 -height: 125%; font-family: 'Segoe UI'; mso-default-font-family: 'Segoe UI'
 ; mso-ascii-font-family: 'Segoe UI'; mso-latin-font-family: 'Segoe UI'; mso
 -greek-font-family: 'Segoe UI'; mso-cyrillic-font-family: 'Segoe UI'; mso-a
 rmenian-font-family: 'Segoe UI'; mso-hebrew-font-family: 'Segoe UI'; mso-ar
 abic-font-family: 'Segoe UI'; mso-georgian-font-family: 'Segoe UI'; mso-cur
 rency-font-family: 'Segoe UI'; mso-latinext-font-family: 'Segoe UI'; color:
  black; mso-style-textfill-type: solid; mso-style-textfill-fill-color: blac
 k; mso-style-textfill-fill-alpha: 100%; language: en-US; mso-ansi-language:
  en-US; mso-ligatures: none;">Prayer Location:    Meet on the corner of Rai
 nbow Lane and Reedy Ave, San Bernardino</span></p><p class="MsoNormal" styl
 e="mso-pagination: widow-orphan; margin-bottom: 0pt; line-height: 125%;"><s
 pan lang="en-US" style="font-size: 13.5pt; line-height: 125%; font-family: 
 'Segoe UI'; mso-default-font-family: 'Segoe UI'; mso-ascii-font-family: 'Se
 goe UI'; mso-latin-font-family: 'Segoe UI'; mso-greek-font-family: 'Segoe U
 I'; mso-cyrillic-font-family: 'Segoe UI'; mso-armenian-font-family: 'Segoe 
 UI'; mso-hebrew-font-family: 'Segoe UI'; mso-arabic-font-family: 'Segoe UI'
 ; mso-georgian-font-family: 'Segoe UI'; mso-currency-font-family: 'Segoe UI
 '; mso-latinext-font-family: 'Segoe UI'; color: black; mso-style-textfill-t
 ype: solid; mso-style-textfill-fill-color: black; mso-style-textfill-fill-a
 lpha: 100%; language: en-US; mso-ansi-language: en-US; mso-ligatures: none;
 "> <span style="mso-spacerun: yes;">                             </span>300
 0 block of Rainbow Lane, San Bernardino</span></p><p class="MsoNormal" styl
 e="mso-pagination: widow-orphan; margin-bottom: 0pt; line-height: 125%;"><s
 pan lang="en-US" style="font-size: 13.5pt; line-height: 125%; font-family: 
 'Segoe UI'; mso-default-font-family: 'Segoe UI'; mso-ascii-font-family: 'Se
 goe UI'; mso-latin-font-family: 'Segoe UI'; mso-greek-font-family: 'Segoe U
 I'; mso-cyrillic-font-family: 'Segoe UI'; mso-armenian-font-family: 'Segoe 
 UI'; mso-hebrew-font-family: 'Segoe UI'; mso-arabic-font-family: 'Segoe UI'
 ; mso-georgian-font-family: 'Segoe UI'; mso-currency-font-family: 'Segoe UI
 '; mso-latinext-font-family: 'Segoe UI'; color: black; mso-style-textfill-t
 ype: solid; mso-style-textfill-fill-color: black; mso-style-textfill-fill-a
 lpha: 100%; language: en-US; mso-ansi-language: en-US; mso-ligatures: none;
 ">Presider: <span style="mso-spacerun: yes;">              </span></span><s
 pan lang="en-US" style="font-size: 13.5pt; line-height: 125%; font-family: 
 'Segoe UI'; mso-default-font-family: 'Segoe UI'; mso-ascii-font-family: 'Se
 goe UI'; mso-latin-font-family: 'Segoe UI'; mso-greek-font-family: 'Segoe U
 I'; mso-cyrillic-font-family: 'Segoe UI'; mso-armenian-font-family: 'Segoe 
 UI'; mso-hebrew-font-family: 'Segoe UI'; mso-arabic-font-family: 'Segoe UI'
 ; mso-georgian-font-family: 'Segoe UI'; mso-currency-font-family: 'Segoe UI
 '; mso-latinext-font-family: 'Segoe UI'; color: black; mso-style-textfill-t
 ype: solid; mso-style-textfill-fill-color: black; mso-style-textfill-fill-a
 lpha: 100%; language: en-US; mso-ansi-language: en-US; mso-bidi-language: a
 r-SA; mso-ligatures: none;">Deacon Mark Weber, Our Lady of the Assumption, 
 San Bernardino</span></p><p class="MsoNormal" style="mso-pagination: none;"
 ><span lang="en-US" style="language: en-US; mso-ligatures: none;"> </span><
 /p>
DTSTAMP:20260421T101046
DTSTART;TZID=America/Los_Angeles:20191125T170000
DTEND;TZID=America/Los_Angeles:20191125T173000
SEQUENCE:0
TRANSP:OPAQUE
END:VEVENT
END:VCALENDAR